BEGIN:VCALENDAR
VERSION:2.0
PRODID:-//WorkBC Centre - ECPv5.14.0.4//NONSGML v1.0//EN
CALSCALE:GREGORIAN
METHOD:PUBLISH
X-WR-CALNAME:WorkBC Centre
X-ORIGINAL-URL:https://www.workbccentre-vancouvermidtown-east.ca
X-WR-CALDESC:Events for WorkBC Centre
BEGIN:VTIMEZONE
TZID:America/Vancouver
BEGIN:DAYLIGHT
TZOFFSETFROM:-0800
TZOFFSETTO:-0700
TZNAME:PDT
DTSTART:20190310T100000
END:DAYLIGHT
BEGIN:STANDARD
TZOFFSETFROM:-0700
TZOFFSETTO:-0800
TZNAME:PST
DTSTART:20191103T090000
END:STANDARD
END:VTIMEZONE
BEGIN:VEVENT
DTSTART;TZID=America/Vancouver:20191125T100000
DTEND;TZID=America/Vancouver:20191125T130000
DTSTAMP:20260425T142307
CREATED:20191025T232507Z
LAST-MODIFIED:20191028T181201Z
UID:1609-1574676000-1574686800@www.workbccentre-vancouvermidtown-east.ca
SUMMARY:Key Factors For Securing Successful Employment
DESCRIPTION:
URL:/calendars/key-factors-fo-securing-successful-employment/
CATEGORIES:Workshop
END:VEVENT
END:VCALENDAR