BEGIN:VCALENDAR
VERSION:2.0
PRODID:-//WorkBC Centre - ECPv5.14.0.4//NONSGML v1.0//EN
CALSCALE:GREGORIAN
METHOD:PUBLISH
X-WR-CALNAME:WorkBC Centre
X-ORIGINAL-URL:https://www.workbccentre-vancouvermidtown-east.ca
X-WR-CALDESC:Events for WorkBC Centre
BEGIN:VTIMEZONE
TZID:America/Vancouver
BEGIN:DAYLIGHT
TZOFFSETFROM:-0800
TZOFFSETTO:-0700
TZNAME:PDT
DTSTART:20190310T100000
END:DAYLIGHT
BEGIN:STANDARD
TZOFFSETFROM:-0700
TZOFFSETTO:-0800
TZNAME:PST
DTSTART:20191103T090000
END:STANDARD
END:VTIMEZONE
BEGIN:VEVENT
DTSTART;VALUE=DATE:20191128
DTEND;VALUE=DATE:20191129
DTSTAMP:20260425T101123
CREATED:20191025T233122Z
LAST-MODIFIED:20191128T192211Z
UID:1615-1574899200-1574985599@www.workbccentre-vancouvermidtown-east.ca
SUMMARY:LinkedIn For Job Search
DESCRIPTION:
URL:/calendars/linkedin/
CATEGORIES:Workshop
END:VEVENT
BEGIN:VEVENT
DTSTART;TZID=America/Vancouver:20191128T100000
DTEND;TZID=America/Vancouver:20191128T130000
DTSTAMP:20260425T101123
CREATED:20191025T233354Z
LAST-MODIFIED:20191025T233354Z
UID:1618-1574935200-1574946000@www.workbccentre-vancouvermidtown-east.ca
SUMMARY:Resume
DESCRIPTION:
URL:/calendars/resume-13/
CATEGORIES:Workshop
END:VEVENT
END:VCALENDAR