BEGIN:VCALENDAR
VERSION:2.0
PRODID:-//WorkBC Centre - ECPv5.14.0.4//NONSGML v1.0//EN
CALSCALE:GREGORIAN
METHOD:PUBLISH
X-WR-CALNAME:WorkBC Centre
X-ORIGINAL-URL:https://www.workbccentre-vancouvermidtown-east.ca
X-WR-CALDESC:Events for WorkBC Centre
BEGIN:VTIMEZONE
TZID:America/Vancouver
BEGIN:DAYLIGHT
TZOFFSETFROM:-0800
TZOFFSETTO:-0700
TZNAME:PDT
DTSTART:20190310T100000
END:DAYLIGHT
BEGIN:STANDARD
TZOFFSETFROM:-0700
TZOFFSETTO:-0800
TZNAME:PST
DTSTART:20191103T090000
END:STANDARD
END:VTIMEZONE
BEGIN:VEVENT
DTSTART;VALUE=DATE:20191210
DTEND;VALUE=DATE:20191211
DTSTAMP:20260422T163232
CREATED:20191127T213239Z
LAST-MODIFIED:20191127T213239Z
UID:1663-1575936000-1576022399@www.workbccentre-vancouvermidtown-east.ca
SUMMARY:Career Exploration
DESCRIPTION:
URL:/calendars/career-exploration-31/
CATEGORIES:Workshop
END:VEVENT
BEGIN:VEVENT
DTSTART;VALUE=DATE:20191210
DTEND;VALUE=DATE:20191211
DTSTAMP:20260422T163232
CREATED:20191127T213312Z
LAST-MODIFIED:20191127T213312Z
UID:1665-1575936000-1576022399@www.workbccentre-vancouvermidtown-east.ca
SUMMARY:Interview Skills
DESCRIPTION:
URL:/calendars/interview-skills-21/
CATEGORIES:Workshop
END:VEVENT
END:VCALENDAR